BEGIN:VCALENDAR
VERSION:2.0
PRODID:SchoolNow
CALSCALE:GREGORIAN
BEGIN:VEVENT
UID:d6637e18-7cac-11f0-8549-021e79079853
DTSTAMP:20251216T214534Z
SUMMARY:Jukebox Tenor/Bass
URL;VALUE=URI://www.op97.org/~aseymour@op97.org/choir/calendar/8520358/juke
 box-tenor-bass
DTSTART:20260115T135500Z
DTEND:20260115T145000Z
END:VEVENT
END:VCALENDAR
