BEGIN:VCALENDAR
VERSION:2.0
PRODID:SchoolNow
CALSCALE:GREGORIAN
BEGIN:VEVENT
UID:d6637f12-7cac-11f0-ac50-021e79079853
DTSTAMP:20251216T214534Z
SUMMARY:Jukebox Soprano/Alto
URL;VALUE=URI://www.op97.org/~aseymour@op97.org/choir/calendar/8520359/juke
 box-soprano-alto
DTSTART:20260120T135500Z
DTEND:20260120T145000Z
END:VEVENT
END:VCALENDAR
