BEGIN:VCALENDAR
VERSION:2.0
PRODID:SchoolNow
CALSCALE:GREGORIAN
BEGIN:VEVENT
UID:d663800c-7cac-11f0-a608-021e79079853
DTSTAMP:20251216T214534Z
SUMMARY:Jukebox Tenor/Bass
URL;VALUE=URI://www.op97.org/~aseymour@op97.org/choir/calendar/8520360/juke
 box-tenor-bass
DTSTART:20260122T135500Z
DTEND:20260122T145000Z
END:VEVENT
END:VCALENDAR
