BEGIN:VCALENDAR
VERSION:2.0
PRODID:SchoolNow
CALSCALE:GREGORIAN
BEGIN:VEVENT
UID:d66380fc-7cac-11f0-a2c9-021e79079853
DTSTAMP:20251216T214534Z
SUMMARY:Jukebox Rehearsal
URL;VALUE=URI://www.op97.org/~aseymour@op97.org/choir/calendar/8520361/juke
 box-rehearsal
DTSTART:20260126T135500Z
DTEND:20260126T145000Z
END:VEVENT
END:VCALENDAR
