BEGIN:VCALENDAR
VERSION:2.0
PRODID:SchoolNow
CALSCALE:GREGORIAN
BEGIN:VEVENT
UID:d66381f6-7cac-11f0-99d6-021e79079853
DTSTAMP:20251216T214534Z
SUMMARY:Jukebox Rehearsal
URL;VALUE=URI://www.op97.org/~aseymour@op97.org/choir/calendar/8520362/juke
 box-rehearsal
DTSTART:20260127T135500Z
DTEND:20260127T145000Z
END:VEVENT
END:VCALENDAR
