BEGIN:VCALENDAR
VERSION:2.0
PRODID:SchoolNow
CALSCALE:GREGORIAN
BEGIN:VEVENT
UID:d66382e6-7cac-11f0-a442-021e79079853
DTSTAMP:20251216T214534Z
SUMMARY:Jukebox Rehearsal
URL;VALUE=URI://www.op97.org/~aseymour@op97.org/choir/calendar/8520363/juke
 box-rehearsal
DTSTART:20260128T135500Z
DTEND:20260128T145000Z
END:VEVENT
END:VCALENDAR
