BEGIN:VCALENDAR
VERSION:2.0
PRODID:SchoolNow
CALSCALE:GREGORIAN
BEGIN:VEVENT
UID:d66383e0-7cac-11f0-b33a-021e79079853
DTSTAMP:20251216T214534Z
SUMMARY:Jukebox Rehearsal
URL;VALUE=URI://www.op97.org/~aseymour@op97.org/choir/calendar/8520364/juke
 box-rehearsal
DTSTART:20260202T135500Z
DTEND:20260202T145000Z
END:VEVENT
END:VCALENDAR
