BEGIN:VCALENDAR
VERSION:2.0
PRODID:SchoolNow
CALSCALE:GREGORIAN
BEGIN:VEVENT
UID:d66385ca-7cac-11f0-8ac5-021e79079853
DTSTAMP:20251216T214534Z
SUMMARY:Celebration of Song Concert
URL;VALUE=URI://www.op97.org/~aseymour@op97.org/choir/calendar/8520366/cele
 bration-of-song-concert
DTSTART:20260205T000000Z
DTEND:20260205T023000Z
END:VEVENT
END:VCALENDAR
