BEGIN:VCALENDAR
VERSION:2.0
PRODID:SchoolNow
CALSCALE:GREGORIAN
BEGIN:VEVENT
UID:d66386ba-7cac-11f0-b65a-021e79079853
DTSTAMP:20251216T214534Z
SUMMARY:No School - President's Day
URL;VALUE=URI://www.op97.org/~aseymour@op97.org/choir/calendar/8520367/no-s
 chool-presidents-day
DTSTART;VALUE=DATE:20260216
DTEND;VALUE=DATE:20260217
END:VEVENT
END:VCALENDAR
