BEGIN:VCALENDAR
VERSION:2.0
PRODID:SchoolNow
CALSCALE:GREGORIAN
BEGIN:VEVENT
UID:d66387aa-7cac-11f0-b8b3-021e79079853
DTSTAMP:20251216T214534Z
SUMMARY:No School - P/T Conferences
URL;VALUE=URI://www.op97.org/~aseymour@op97.org/choir/calendar/8520368/no-s
 chool-p-t-conferences
DTSTART;VALUE=DATE:20260213
DTEND;VALUE=DATE:20260214
END:VEVENT
END:VCALENDAR
