BEGIN:VCALENDAR
VERSION:2.0
PRODID:SchoolNow
CALSCALE:GREGORIAN
BEGIN:VEVENT
UID:d663889a-7cac-11f0-838c-021e79079853
DTSTAMP:20251216T214534Z
SUMMARY:IGSMA Festival Jukebox + 7/8 Choir
URL;VALUE=URI://www.op97.org/~aseymour@op97.org/choir/calendar/8520369/igsm
 a-festival-jukebox-7-8-choir
DTSTART;VALUE=DATE:20260307
DTEND;VALUE=DATE:20260308
END:VEVENT
END:VCALENDAR
