BEGIN:VCALENDAR
VERSION:2.0
PRODID:SchoolNow
CALSCALE:GREGORIAN
BEGIN:VEVENT
UID:d6638a84-7cac-11f0-a31a-021e79079853
DTSTAMP:20251216T214534Z
SUMMARY:No School - Institute Day
URL;VALUE=URI://www.op97.org/~aseymour@op97.org/choir/calendar/8520371/no-s
 chool-institute-day
DTSTART;VALUE=DATE:20260317
DTEND;VALUE=DATE:20260318
END:VEVENT
END:VCALENDAR
