BEGIN:VCALENDAR
VERSION:2.0
PRODID:SchoolNow
CALSCALE:GREGORIAN
BEGIN:VEVENT
UID:d6638e4e-7cac-11f0-807e-021e79079853
DTSTAMP:20251216T214534Z
SUMMARY:Dress Rehearsal Period 6-7
URL;VALUE=URI://www.op97.org/~aseymour@op97.org/choir/calendar/8520375/dres
 s-rehearsal-period-6-7
DTSTART:20260511T184700Z
DTEND:20260511T203000Z
END:VEVENT
END:VCALENDAR
