BEGIN:VCALENDAR
VERSION:2.0
PRODID:SchoolNow
CALSCALE:GREGORIAN
BEGIN:VEVENT
UID:d6638f34-7cac-11f0-adf6-021e79079853
DTSTAMP:20251216T214534Z
SUMMARY:Jukebox Rehearsal
URL;VALUE=URI://www.op97.org/~aseymour@op97.org/choir/calendar/8520376/juke
 box-rehearsal
DTSTART:20260505T125500Z
DTEND:20260505T135000Z
END:VEVENT
END:VCALENDAR
