BEGIN:VCALENDAR
VERSION:2.0
PRODID:SchoolNow
CALSCALE:GREGORIAN
BEGIN:VEVENT
UID:d663901a-7cac-11f0-b99e-021e79079853
DTSTAMP:20251216T214534Z
SUMMARY:Combined Morning Choirs on Stage
URL;VALUE=URI://www.op97.org/~aseymour@op97.org/choir/calendar/8520377/comb
 ined-morning-choirs-on-stage
DTSTART:20260511T124500Z
DTEND:20260511T135000Z
END:VEVENT
END:VCALENDAR
