BEGIN:VCALENDAR
VERSION:2.0
PRODID:SchoolNow
CALSCALE:GREGORIAN
BEGIN:VEVENT
UID:d663910a-7cac-11f0-a66d-021e79079853
DTSTAMP:20251216T214534Z
SUMMARY:CLEVELAND TRIP - 7th Grade Band/Orchestra/Choir
URL;VALUE=URI://www.op97.org/~aseymour@op97.org/choir/calendar/8520378/clev
 eland-trip-7th-grade-band-orchestra-choir
DTSTART;VALUE=DATE:20260515
DTEND;VALUE=DATE:20260518
END:VEVENT
END:VCALENDAR
