BEGIN:VCALENDAR
VERSION:2.0
PRODID:SchoolNow
CALSCALE:GREGORIAN
BEGIN:VEVENT
UID:d66391fa-7cac-11f0-bc56-021e79079853
DTSTAMP:20251216T214534Z
SUMMARY:Last Day of School
URL;VALUE=URI://www.op97.org/~aseymour@op97.org/choir/calendar/8520379/last
 -day-of-school
DTSTART;VALUE=DATE:20260602
DTEND;VALUE=DATE:20260603
END:VEVENT
END:VCALENDAR
