BEGIN:VCALENDAR
VERSION:2.0
PRODID:SchoolNow
CALSCALE:GREGORIAN
BEGIN:VEVENT
UID:9b7cde68-8141-11f0-8109-0a58a9feac02
DTSTAMP:20251216T214534Z
SUMMARY:ILMEA Rehearsal
URL;VALUE=URI://www.op97.org/~aseymour@op97.org/choir/calendar/8538667/ilme
 a-rehearsal
DTSTART:20250916T125500Z
DTEND:20250916T135000Z
END:VEVENT
END:VCALENDAR
