BEGIN:VCALENDAR
VERSION:2.0
PRODID:SchoolNow
CALSCALE:GREGORIAN
BEGIN:VEVENT
UID:9b7ce11a-8141-11f0-8e5f-0a58a9feac02
DTSTAMP:20251216T214534Z
SUMMARY:ILMEA Recordings DUE
URL;VALUE=URI://www.op97.org/~aseymour@op97.org/choir/calendar/8538669/ilme
 a-recordings-due
DTSTART;VALUE=DATE:20250929
DTEND;VALUE=DATE:20250930
END:VEVENT
END:VCALENDAR
