BEGIN:VCALENDAR
VERSION:2.0
PRODID:SchoolNow
CALSCALE:GREGORIAN
BEGIN:VEVENT
UID:7d2e9c78-8a04-11f0-80af-0a58a9feac02
DTSTAMP:20251216T214534Z
SUMMARY:Jukebox Mandatory Parent/Student Meeting
URL;VALUE=URI://www.op97.org/~aseymour@op97.org/choir/calendar/8582608/juke
 box-mandatory-parent-student-meeting
DTSTART:20250912T011500Z
DTEND:20250912T014500Z
END:VEVENT
END:VCALENDAR
