BEGIN:VCALENDAR
VERSION:2.0
PRODID:SchoolNow
CALSCALE:GREGORIAN
BEGIN:VEVENT
UID:791ca830-9d89-11f0-99ee-028fec87f01b
DTSTAMP:20251216T214534Z
SUMMARY:CAMBIATA!
URL;VALUE=URI://www.op97.org/~aseymour@op97.org/choir/calendar/8677875/camb
 iata
DTSTART:20251008T125500Z
DTEND:20251008T135000Z
END:VEVENT
END:VCALENDAR
