BEGIN:VCALENDAR
VERSION:2.0
PRODID:SchoolNow
CALSCALE:GREGORIAN
BEGIN:VEVENT
UID:cbd14c42-aae1-11f0-9400-0affccad7c97
DTSTAMP:20251216T214534Z
SUMMARY:8th Grade Jukebox Dress Fittings
URL;VALUE=URI://www.op97.org/~aseymour@op97.org/choir/calendar/8727750/8th-
 grade-jukebox-dress-fittings
DTSTART:20251021T171500Z
DTEND:20251021T175100Z
END:VEVENT
END:VCALENDAR
