BEGIN:VCALENDAR
VERSION:2.0
PRODID:SchoolNow
CALSCALE:GREGORIAN
BEGIN:VEVENT
UID:cbd16f24-aae1-11f0-9c02-0affccad7c97
DTSTAMP:20251216T214534Z
SUMMARY:7th Grade Jukebox SUIT fittings
URL;VALUE=URI://www.op97.org/~aseymour@op97.org/choir/calendar/8727751/7th-
 grade-jukebox-suit-fittings
DTSTART:20251022T171500Z
DTEND:20251022T175100Z
END:VEVENT
END:VCALENDAR
