BEGIN:VCALENDAR
VERSION:2.0
PRODID:SchoolNow
CALSCALE:GREGORIAN
BEGIN:VEVENT
UID:cbd170c8-aae1-11f0-b611-0affccad7c97
DTSTAMP:20251216T214534Z
SUMMARY:7th Grade Jukebox Dress Fittings
URL;VALUE=URI://www.op97.org/~aseymour@op97.org/choir/calendar/8727752/7th-
 grade-jukebox-dress-fittings
DTSTART:20251020T163900Z
DTEND:20251020T171500Z
END:VEVENT
END:VCALENDAR
