BEGIN:VCALENDAR
VERSION:2.0
PRODID:SchoolNow
CALSCALE:GREGORIAN
BEGIN:VEVENT
UID:cbd171f4-aae1-11f0-9249-0affccad7c97
DTSTAMP:20251216T214534Z
SUMMARY:8th Grade Jukebox Suit Fittings
URL;VALUE=URI://www.op97.org/~aseymour@op97.org/choir/calendar/8727753/8th-
 grade-jukebox-suit-fittings
DTSTART:20251023T171500Z
DTEND:20251023T175100Z
END:VEVENT
END:VCALENDAR
