BEGIN:VCALENDAR
VERSION:2.0
PRODID:SchoolNow
CALSCALE:GREGORIAN
BEGIN:VEVENT
UID:c945fb8e-ab14-11f0-be7e-0a58a9feac02
DTSTAMP:20251216T214534Z
SUMMARY:ILMEA Rehearsal
URL;VALUE=URI://www.op97.org/~aseymour@op97.org/choir/calendar/8728607/ilme
 a-rehearsal
DTSTART:20251029T125500Z
DTEND:20251029T135000Z
END:VEVENT
END:VCALENDAR
