BEGIN:VCALENDAR
VERSION:2.0
PRODID:SchoolNow
CALSCALE:GREGORIAN
BEGIN:VEVENT
UID:c94624ba-ab14-11f0-92ad-0a58a9feac02
DTSTAMP:20251216T214534Z
SUMMARY:ILMEA Soprano/Alto
URL;VALUE=URI://www.op97.org/~aseymour@op97.org/choir/calendar/8728608/ilme
 a-soprano-alto
DTSTART:20251104T135500Z
DTEND:20251104T145000Z
END:VEVENT
END:VCALENDAR
