BEGIN:VCALENDAR
VERSION:2.0
PRODID:SchoolNow
CALSCALE:GREGORIAN
BEGIN:VEVENT
UID:c9462654-ab14-11f0-9d59-0a58a9feac02
DTSTAMP:20251216T214534Z
SUMMARY:ILMEA Rehearsal Tenor/Bass
URL;VALUE=URI://www.op97.org/~aseymour@op97.org/choir/calendar/8728609/ilme
 a-rehearsal-tenor-bass
DTSTART:20251112T135500Z
DTEND:20251112T145000Z
END:VEVENT
END:VCALENDAR
