BEGIN:VCALENDAR
VERSION:2.0
PRODID:SchoolNow
CALSCALE:GREGORIAN
BEGIN:VEVENT
UID:c946278a-ab14-11f0-af3e-0a58a9feac02
DTSTAMP:20251216T214534Z
SUMMARY:ILMEA Rehearsal
URL;VALUE=URI://www.op97.org/~aseymour@op97.org/choir/calendar/8728610/ilme
 a-rehearsal
DTSTART:20251118T135500Z
DTEND:20251118T145000Z
END:VEVENT
END:VCALENDAR
