BEGIN:VCALENDAR
VERSION:2.0
PRODID:SchoolNow
CALSCALE:GREGORIAN
BEGIN:VEVENT
UID:c9462898-ab14-11f0-939f-0a58a9feac02
DTSTAMP:20251216T214534Z
SUMMARY:ILMEA Festival @ Unity Junior High (Cicero)
URL;VALUE=URI://www.op97.org/~aseymour@op97.org/choir/calendar/8728611/ilme
 a-festival-unity-junior-high-cicero
DTSTART:20251122T140000Z
DTEND:20251122T220000Z
END:VEVENT
END:VCALENDAR
