BEGIN:VCALENDAR
VERSION:2.0
PRODID:SchoolNow
CALSCALE:GREGORIAN
BEGIN:VEVENT
UID:a74e576c-c4df-11f0-aeb3-0a58a9feac02
DTSTAMP:20251216T214534Z
SUMMARY:Morning Choir + Jazz Band Dress Rehearsal
URL;VALUE=URI://www.op97.org/~aseymour@op97.org/choir/calendar/8802608/morn
 ing-choir-jazz-band-dress-rehearsal
DTSTART:20251216T150000Z
DTEND:20251216T164100Z
END:VEVENT
END:VCALENDAR
