BEGIN:VCALENDAR
VERSION:2.0
PRODID:SchoolNow
CALSCALE:GREGORIAN
BEGIN:VEVENT
UID:a74e7922-c4df-11f0-97cb-0a58a9feac02
DTSTAMP:20251216T214534Z
SUMMARY:OPRF Choir + Show Choir Assembly
URL;VALUE=URI://www.op97.org/~aseymour@op97.org/choir/calendar/8802610/oprf
 -choir-show-choir-assembly
DTSTART:20251201T150000Z
DTEND:20251201T154900Z
END:VEVENT
END:VCALENDAR
