BEGIN:VCALENDAR
VERSION:2.0
PRODID:SchoolNow
CALSCALE:GREGORIAN
BEGIN:VEVENT
UID:a74e7af8-c4df-11f0-b8e6-0a58a9feac02
DTSTAMP:20251216T214534Z
SUMMARY:Do Re Mi's EXTRA Rehearsal
URL;VALUE=URI://www.op97.org/~aseymour@op97.org/choir/calendar/8802611/do-r
 e-mis-extra-rehearsal
DTSTART:20251202T135500Z
DTEND:20251202T145000Z
END:VEVENT
END:VCALENDAR
