BEGIN:VCALENDAR
VERSION:2.0
PRODID:SchoolNow
CALSCALE:GREGORIAN
BEGIN:VEVENT
UID:a74e7dfa-c4df-11f0-9188-0a58a9feac02
DTSTAMP:20251216T214534Z
SUMMARY:All Morning Choirs on Stage
URL;VALUE=URI://www.op97.org/~aseymour@op97.org/choir/calendar/8802612/all-
 morning-choirs-on-stage
DTSTART:20251215T134500Z
DTEND:20251215T145000Z
END:VEVENT
END:VCALENDAR
