BEGIN:VCALENDAR
VERSION:2.0
PRODID:SchoolNow
CALSCALE:GREGORIAN
BEGIN:VEVENT
UID:a74e7f30-c4df-11f0-99d5-0a58a9feac02
DTSTAMP:20251216T214534Z
SUMMARY:CAMBIATA! EXTRA Rehearsal
URL;VALUE=URI://www.op97.org/~aseymour@op97.org/choir/calendar/8802613/camb
 iata-extra-rehearsal
DTSTART:20251209T135500Z
DTEND:20251209T145000Z
END:VEVENT
END:VCALENDAR
