BEGIN:VCALENDAR
VERSION:2.0
PRODID:SchoolNow
CALSCALE:GREGORIAN
BEGIN:VEVENT
UID:1a098840-cfd4-11f0-b7f5-0affddf38b41
DTSTAMP:20251216T214534Z
SUMMARY:Jingle Mingle - Jukebox ONLY
URL;VALUE=URI://www.op97.org/~aseymour@op97.org/choir/calendar/8815860/jing
 le-mingle-jukebox-only
DTSTART:20251211T185700Z
DTEND:20251211T203800Z
END:VEVENT
END:VCALENDAR
