BEGIN:VCALENDAR
VERSION:2.0
PRODID:SchoolNow
CALSCALE:GREGORIAN
BEGIN:VEVENT
UID:e7f1aea2-d468-11f0-a5af-0a58a9feac02
DTSTAMP:20251216T214534Z
SUMMARY:ILMEA All-State Choir
URL;VALUE=URI://www.op97.org/~aseymour@op97.org/choir/calendar/8819936/ilme
 a-all-state-choir
DTSTART;VALUE=DATE:20260129
DTEND;VALUE=DATE:20260131
END:VEVENT
END:VCALENDAR
