BEGIN:VCALENDAR
VERSION:2.0
PRODID:SchoolNow
CALSCALE:GREGORIAN
BEGIN:VEVENT
UID:cfecd228-d567-11f0-ac6c-0a58a9feac02
DTSTAMP:20251216T214534Z
SUMMARY:ILMEA All-State Rehearsal
URL;VALUE=URI://www.op97.org/~aseymour@op97.org/choir/calendar/8820913/ilme
 a-all-state-rehearsal
DTSTART:20251218T140000Z
DTEND:20251218T145000Z
END:VEVENT
END:VCALENDAR
